BEGIN:VCALENDAR
VERSION:2.0
PRODID:-//wp-events-plugin.com//6.4.9//EN
TZID:Europe/Paris
X-WR-TIMEZONE:Europe/Paris
BEGIN:VEVENT
UID:107@centreportehaute.org
DTSTART;TZID=Europe/Paris:20260505T193000
DTEND;TZID=Europe/Paris:20260505T223000
DTSTAMP:20250912T051557Z
URL:https://centreportehaute.org/evenements/habemus-cine-sous-le-soleil-de
 -satan/
SUMMARY:Habemus Ciné Sous le soleil de Satan
DESCRIPTION:CINE-CLUB OECUMENIQUE\n\nMardi 5 mai\, Sous le soleil de Satan 
 – Maurice Pialat (1987)\n\norganisé par le Centre Porte Haute\, Sainte 
 Marie - Eglise Centre Ville et la Dynamique mulhousienne en partenariat av
 ec le cinéma Le Palace\, Mulhouse\n\navec Pierre-Louis CEREJA\, ancien jo
 urnaliste\, critique cinéma\, Joachim TROGOLO\, pasteur et  Hervé PARAD
 IS-MURAT\, prêtre.\n\nLes premiers mardis du mois entre octobre et mai à
  19h30 au Cinéma Le Palace de Mulhouse\n\n(Tarifs du cinéma)\n\n"Et si v
 ous ne m'aimez pas\, je peux vous dire que je ne vous aime pas non plus." 
 La réponse du réalisateur est aussi violente que les sifflets qui accuei
 llent son film au Festival de Cannes en 1987. Conspué par le public et co
 uronné de la Palme d'or\, le film ne laisse personne indifférent. Certai
 ns accusent le réalisateur d'avoir trahi l'œuvre de l'écrivain. Pialat\
 , lui\, regrette presque d'avoir été trop fidèle au texte. "Je ne suis 
 pas croyant\, explique-t-il. Je sais qu'on va crier partout qu'un incroyan
 t n'a pas le droit de toucher à Bernanos. L'adapter sans la foi ne veut p
 as dire qu'on le trahit." En effet\, malgré une approche radicalement opp
 osée\, Pialat\, comme Bernanos\, centre son récit sur la dualité entre 
 Satan et la sainteté\, sur le combat du bien contre le mal. Le film tout 
 entier est conçu comme une série de duels\, une succession de longs et b
 ouleversants face-à-face entre les différents protagonistes\, dont nul n
 e sort indemne.
ATTACH;FMTTYPE=image/jpeg:https://centreportehaute.org/wp-content/uploads/
 2025/09/Sous-le-soleil-de-satan.webp
CATEGORIES:Habemus Ciné !
LOCATION:Cinéma Palace de Mulhouse\, 10 Av. de Colmar\, MULHOUSE\, Haut-Rh
 in\, 68100\, Grand-Est\, France
X-APPLE-STRUCTURED-LOCATION;VALUE=URI;X-ADDRESS=10 Av. de Colmar\, MULHOUSE
 \, Haut-Rhin\, 68100\, Grand-Est\, France;X-APPLE-RADIUS=100;X-TITLE=Ciné
 ma Palace de Mulhouse:geo:0,0
END:VEVENT
BEGIN:VTIMEZONE
TZID:Europe/Paris
X-LIC-LOCATION:Europe/Paris
BEGIN:DAYLIGHT
DTSTART:20260329T030000
TZOFFSETFROM:+0100
TZOFFSETTO:+0200
TZNAME:CEST
END:DAYLIGHT
END:VTIMEZONE
END:VCALENDAR