BEGIN:VCALENDAR
VERSION:2.0
PRODID:-//wp-events-plugin.com//6.4.9//EN
TZID:Europe/Paris
X-WR-TIMEZONE:Europe/Paris
BEGIN:VEVENT
UID:141@centreportehaute.org
DTSTART;TZID=Europe/Paris:20260701T000000
DTEND;TZID=Europe/Paris:20260930T000000
DTSTAMP:20260413T100419Z
URL:https://centreportehaute.org/evenements/inscription-formation-spiritue
 lle-un-coeur-qui-discerne-1-r-39/
SUMMARY:Inscription Formation spirituelle :  « Un cœur qui discerne » (1
  R 3\,9)
DESCRIPTION:Formation spirituelle : « Un cœur qui discerne » (1 R 3\,9)\
 n&nbsp\;\n\nAnimation : Anne LECLERC et Christophe KRUST\n\n&nbsp\;\n\nUn
  cœur qui discerne est un parcours d’initiation au discernement spiritu
 el. Il a pour objectif de chercher et trouver la présence et la volonté 
 de Dieu au cœur de la vie quotidienne. Il s’adresse à toute personne d
 ésireuse d’entreprendre ou d’intensifier un chemin de croissance spir
 ituelle. Cela implique d’exercer son regard de foi au quotidien\, de don
 ner chaque jour du temps pour réfléchir à son vécu à la lumière de l
 a Parole de Dieu\, de prier et de relire sa vie afin de prendre conscience
  de la présence et des appels de Dieu dans sa vie concrète.\n\n&nbsp\;\n
 \nIl se déroule sur 9 rencontres le mercredi de 18h30 à 21h\, à la Mais
 on Loewenfels\, 44 rue des Franciscains à Mulhouse :\n\n&nbsp\;\n\n 	Au f
 ondement de ma vie : Dieu est Amour\n 	Vivre dans la lumière : Dieu est
  Lumière\n 	Tout est don\, tout est grâce : rendre grâce\n 	Notre Dieu
  nous appelle à la Vie en abondance\n 	Appels de Dieu et discernement spi
 rituel\n 	Mes réponses à Dieu et le discernement spirituel\n 	Passé et 
 miséricorde : mon histoire sainte\n 	Avenir dans l’espérance\n 	Porte
 r du fruit : « un fruit qui demeure »\n\n&nbsp\;\n\nCes 9 séances fo
 rment un tout. Un accompagnement spirituel personnel assuré par une équi
 pe du Centre Porte Haute entre chaque séance fait également partie du pa
 rcours.\n\n&nbsp\;\n\nNombre maximum de participants : 12\n\nNeuf rencont
 res mensuelles en groupe pour :\n\n&nbsp\;\n\n 	Un partage du vécu des p
 articipants à partir d’une feuille de route remise en fin de chaque sé
 ance. Ce partage permet de vivre la dimension ecclésiale de notre foi. Il
  est comme un laboratoire d’écoute de l’Esprit-Saint à travers la pa
 role des autres.\n 	Un enseignement qui développe le thème du mois\, pro
 pose des pistes de réflexion\, de lectures\, de prière… pour nourrir l
 ’intelli­gence et le cœur afin de poursuivre le chemin de croissance e
 ngagé et nous y guider durant tout le mois. Un dossier est remis à chaqu
 e participant à la fin des séances\, en appui de l’enseigne­ment.\n 	
 Un temps de prière prend place au cours de ce temps fort. Il se veut à l
 a fois un lieu d’intériorisation de la démarche et un lieu de communio
 n spirituelle pour le groupe.\n\n&nbsp\;\n\nUn accompagnement spirituel me
 nsuel fait partie du parcours. Ce temps d’écoute et de parole veut aide
 r à mieux connaître et à vérifier les mouvements et motions intérieur
 s qui m’habitent\, à m’exercer pour discerner les appels et les signe
 s de Dieu dans ma vie et à prendre conscience de ma manière d’y répon
 dre au quotidien. Il favorise le déroulement et l’intégration harmonie
 use de ma démarche spirituelle.\n\n&nbsp\;\n\n\n\nDates des rencontres \n
 \nen groupe \n\n(18 h 30 – 21 h)\n\nLes mercredis\nDates \n\ndes accompa
 gnements\n\nseront définies avec l’accompagnateur(trice)\n\n\n14  octo
 bre           2026\noctobre\n\n\n11 novembre\nnovembre\n\n\n16 d
 écembre\ndécembre\n\n\n13 janvier             2027\njanvier\
 n\n\n17 février\nfévrier\n\n\n17 mars\nmars\n\n\n14 avril\navril\n\n\n12
  mai\nmai\n\n\n16   juin\n\n\n\n\n&nbsp\;\n\nParticipation financière 
 : entre 40 € et 140 € selon vos possibilités\n\nInscription et motiva
 tions
ATTACH;FMTTYPE=image/jpeg:https://centreportehaute.org/wp-content/uploads/
 2026/04/Capture-decran-2026-04-10-112649.png
LOCATION:Maison Loewenfels\, 44\, rue des franciscains\, MULHOUSE\, Haut-Rh
 in\, 68100\, Grand-Est\, France
X-APPLE-STRUCTURED-LOCATION;VALUE=URI;X-ADDRESS=44\, rue des franciscains\,
  MULHOUSE\, Haut-Rhin\, 68100\, Grand-Est\, France;X-APPLE-RADIUS=100;X-TI
 TLE=Maison Loewenfels:geo:0,0
END:VEVENT
BEGIN:VTIMEZONE
TZID:Europe/Paris
X-LIC-LOCATION:Europe/Paris
BEGIN:DAYLIGHT
DTSTART:20260329T030000
TZOFFSETFROM:+0100
TZOFFSETTO:+0200
TZNAME:CEST
END:DAYLIGHT
END:VTIMEZONE
END:VCALENDAR