BEGIN:VCALENDAR
VERSION:2.0
PRODID:-//wp-events-plugin.com//6.4.9//EN
TZID:Europe/Paris
X-WR-TIMEZONE:Europe/Paris
BEGIN:VEVENT
UID:137@centreportehaute.org
DTSTART;TZID=Europe/Paris:20260422T200000
DTEND;TZID=Europe/Paris:20260422T213000
DTSTAMP:20260223T104148Z
URL:https://centreportehaute.org/evenements/le-synode-cest-maintenant-atel
 ier-decouverte-9/
SUMMARY:Le Synode c'est maintenant ? Atelier découverte
DESCRIPTION:PARCOURS DECOUVERTE : EXPERIMENTER LA SYNODALITE\n\n\n\n\n\n\n\
 nCe parcours propose d'entrer concrètement dans la dynamique du synode et
  sa phase de mise en oeuvre (2025-2028). En cinq étapes\, il aide à chem
 iner ensemble à partir de la Parole de Dieu. Chaque rencontre met l'écri
 ture en dialogue avec un grand chapitre du document final. Les participant
 .es font l'expérience concrète de la conversation dans l'esprit\, coeur 
 de la démarche synodale. Ce chemin simple et clé en main s'adresse à to
 us.tes les baptisé.es.\n\n\n\n\n\n\n\n\n\n\n\n\n\n\n\n\nParticipation lib
 re aux frais\n\nINSCRIPTION souhaitée et possible EN LIGNE\n\n&nbsp\;
ATTACH;FMTTYPE=image/jpeg:https://centreportehaute.org/wp-content/uploads/
 2026/01/Capture-decran-2026-01-05-104451.png
CATEGORIES:Promesse d'Eglise
LOCATION:Maison Loewenfels\, 44\, rue des franciscains\, MULHOUSE\, Haut-Rh
 in\, 68100\, Grand-Est\, France
X-APPLE-STRUCTURED-LOCATION;VALUE=URI;X-ADDRESS=44\, rue des franciscains\,
  MULHOUSE\, Haut-Rhin\, 68100\, Grand-Est\, France;X-APPLE-RADIUS=100;X-TI
 TLE=Maison Loewenfels:geo:0,0
END:VEVENT
BEGIN:VTIMEZONE
TZID:Europe/Paris
X-LIC-LOCATION:Europe/Paris
BEGIN:DAYLIGHT
DTSTART:20260329T030000
TZOFFSETFROM:+0100
TZOFFSETTO:+0200
TZNAME:CEST
END:DAYLIGHT
END:VTIMEZONE
END:VCALENDAR