BEGIN:VCALENDAR
VERSION:2.0
PRODID:-//wp-events-plugin.com//6.4.9//EN
TZID:Europe/Paris
X-WR-TIMEZONE:Europe/Paris
BEGIN:VEVENT
UID:134@centreportehaute.org
DTSTART;TZID=Europe/Paris:20260604T193000
DTEND;TZID=Europe/Paris:20260604T210000
DTSTAMP:20260223T095904Z
URL:https://centreportehaute.org/evenements/tu-aimeras-ton-prochain-comme-
 toi-meme-je-suis-leternel-ton-dieu-2/
SUMMARY:«Tu aimeras ton prochain comme toi-même : Je suis l’Eternel\, t
 on Dieu»
DESCRIPTION:Cycle "Comprendre le Judaïsme"\n\n«Tu aimeras ton prochain co
 mme toi-même : Je suis l’Eternel\, ton Dieu» Lévitique 19\, 18\nEst-c
 e possible ? Comment comprendre cette parole ? Quelle est la résonnance d
 e cette injonction dans le monde d’aujourd’hui ? Comment la mettre en 
 pratique ? Le prochain... le lointain... ?\n\nAvec Claudine GRAUZAM\, Conf
 érencière\, impliquée dans le dialogue interreligieux\, membre du burea
 u du CRIF\, vice-présidente de la Communauté Israélite de Strasbourg\, 
 pendant 10 ans.\n\nEn partenariat avec l’association Bible et Culture\, 
 une démarche pour une approche cultuelle et culturelle.\nAnimation : Bert
 rand SCHLUND.\n\nEntrée libre\, plateau.
ATTACH;FMTTYPE=image/jpeg:https://centreportehaute.org/wp-content/uploads/
 2026/01/telechargement.jpeg
LOCATION:Maison Loewenfels\, 44\, rue des franciscains\, MULHOUSE\, Haut-Rh
 in\, 68100\, Grand-Est\, France
X-APPLE-STRUCTURED-LOCATION;VALUE=URI;X-ADDRESS=44\, rue des franciscains\,
  MULHOUSE\, Haut-Rhin\, 68100\, Grand-Est\, France;X-APPLE-RADIUS=100;X-TI
 TLE=Maison Loewenfels:geo:0,0
END:VEVENT
BEGIN:VTIMEZONE
TZID:Europe/Paris
X-LIC-LOCATION:Europe/Paris
BEGIN:DAYLIGHT
DTSTART:20260329T030000
TZOFFSETFROM:+0100
TZOFFSETTO:+0200
TZNAME:CEST
END:DAYLIGHT
END:VTIMEZONE
END:VCALENDAR